BEGIN:VCALENDAR
VERSION:2.0
PRODID:-//Experience Maple Grove - ECPv6.15.20//NONSGML v1.0//EN
CALSCALE:GREGORIAN
METHOD:PUBLISH
X-WR-CALNAME:Experience Maple Grove
X-ORIGINAL-URL:https://experiencemaplegrove.com
X-WR-CALDESC:Events for Experience Maple Grove
REFRESH-INTERVAL;VALUE=DURATION:PT1H
X-Robots-Tag:noindex
X-PUBLISHED-TTL:PT1H
BEGIN:VTIMEZONE
TZID:America/Chicago
BEGIN:DAYLIGHT
TZOFFSETFROM:-0600
TZOFFSETTO:-0500
TZNAME:CDT
DTSTART:20240310T080000
END:DAYLIGHT
BEGIN:STANDARD
TZOFFSETFROM:-0500
TZOFFSETTO:-0600
TZNAME:CST
DTSTART:20241103T070000
END:STANDARD
BEGIN:DAYLIGHT
TZOFFSETFROM:-0600
TZOFFSETTO:-0500
TZNAME:CDT
DTSTART:20250309T080000
END:DAYLIGHT
BEGIN:STANDARD
TZOFFSETFROM:-0500
TZOFFSETTO:-0600
TZNAME:CST
DTSTART:20251102T070000
END:STANDARD
BEGIN:DAYLIGHT
TZOFFSETFROM:-0600
TZOFFSETTO:-0500
TZNAME:CDT
DTSTART:20260308T080000
END:DAYLIGHT
BEGIN:STANDARD
TZOFFSETFROM:-0500
TZOFFSETTO:-0600
TZNAME:CST
DTSTART:20261101T070000
END:STANDARD
BEGIN:DAYLIGHT
TZOFFSETFROM:-0600
TZOFFSETTO:-0500
TZNAME:CDT
DTSTART:20270314T080000
END:DAYLIGHT
BEGIN:STANDARD
TZOFFSETFROM:-0500
TZOFFSETTO:-0600
TZNAME:CST
DTSTART:20271107T070000
END:STANDARD
END:VTIMEZONE
BEGIN:VEVENT
DTSTART;TZID=America/Chicago:20260131T130000
DTEND;TZID=America/Chicago:20260131T160000
DTSTAMP:20260420T091210
CREATED:20260105T184028Z
LAST-MODIFIED:20260105T184028Z
UID:10004264-1769864400-1769875200@experiencemaplegrove.com
SUMMARY:Wonders of Winter
DESCRIPTION:Celebrate winter the Minnesota way with a free afternoon of frosty fun for all ages! Featuring ice skating\, horse-drawn wagon rides\, s’mores by the fire\, dog sled adventures\, and hands-on winter activities. From scavenger hunts to snowy art projects\, there’s something magical waiting around every corner. \nBundle up and bring the whole family for a winter experience you won’t forget! \nAges: All ages\nTime: 1 to 4 p.m.\nPrice: Free\nLocation: 12000 Central Park Way
URL:https://experiencemaplegrove.com/event/wonders-of-winter-2/
LOCATION:Central Park of Maple Grove
ATTACH;FMTTYPE=image/png:https://experiencemaplegrove.com/wp-content/uploads/2026/01/wonders-of-winter-logo1-scaled.png
END:VEVENT
BEGIN:VEVENT
DTSTART;TZID=America/Chicago:20251127T080000
DTEND;TZID=America/Chicago:20251127T100000
DTSTAMP:20260420T091210
CREATED:20251103T215031Z
LAST-MODIFIED:20251103T215031Z
UID:10004239-1764230400-1764237600@experiencemaplegrove.com
SUMMARY:Maple Grove Turkey Trot
DESCRIPTION:Join the 2nd Annual Maple Grove Turkey Trot!\nKick off your Thanksgiving with a fun\, festive run! Experience Maple Grove and TC Running Company are excited to host the 2nd Annual Maple Grove Turkey Trot\, a wonderful opportunity to gather the community\, get active\, and create a new holiday tradition before the feast begins. \nThe Details\nDate: Thanksgiving Day\, November 27\, 2025\nTime: 8:00 AM (Race Start)\nLocation: Central Park – Phenow Pavillion \nWhat You’ll Get\nEvery registered participant receives an awesome package of goodies. \n\nCommemorative Winter Hat: Perfect for those chilly Minnesota mornings!\nPartner Gifts & Discounts: Exclusive offers and gear from our partners.\n\nMake it a Holiday Tradition\nWhether you’re a seasoned runner\, a casual walker\, or pushing a stroller\, this race is a perfect way to bring the family together\, get some fresh air\, and work up an appetite for your Thanksgiving dinner. It’s more than just a race–it’s a fun\, healthy way to start the holiday. \nReady to Run?\nDon’t Wait! Spots fill up fast–we sold out early last year.
URL:https://experiencemaplegrove.com/event/maple-grove-turkey-trot/
LOCATION:Central Park of Maple Grove
ATTACH;FMTTYPE=image/png:https://experiencemaplegrove.com/wp-content/uploads/2025/11/TurkeyTrotLogo-2025_TCRC.png
END:VEVENT
BEGIN:VEVENT
DTSTART;TZID=America/Chicago:20250927T120000
DTEND;TZID=America/Chicago:20250927T180000
DTSTAMP:20260420T091210
CREATED:20250902T162155Z
LAST-MODIFIED:20250902T162155Z
UID:10004212-1758974400-1758996000@experiencemaplegrove.com
SUMMARY:Maple Grove's Oktoberfest
DESCRIPTION:Oktoberfest is an annual fun-filled fall festival featuring local craft and food vendors\, a petting zoo\, axe throwing\, face painting\, drinks\, and live music! Hosted by Maple Grove parks and recreation and OMNI Brewing Co.\, this a free event for all ages to enjoy!
URL:https://experiencemaplegrove.com/event/maple-groves-oktoberfest/
LOCATION:Central Park of Maple Grove
END:VEVENT
BEGIN:VEVENT
DTSTART;TZID=America/Chicago:20250913T150000
DTEND;TZID=America/Chicago:20250913T223000
DTSTAMP:20260420T091210
CREATED:20250803T232214Z
LAST-MODIFIED:20250804T170254Z
UID:10004204-1757775600-1757802600@experiencemaplegrove.com
SUMMARY:Rock'n The Grove
DESCRIPTION:Rock’n the Grove is back and ready to bring the energy to Central Park in Maple Grove. This outdoor concert is the ultimate summer night out\, packed with live music\, great food\, and good vibes. Headlining the night is Hairball\, delivering over two hours of mind-blowing rock tribute magic. It’s loud\, it’s wild\, and it’s like seeing Van Halen\, KISS\, Mötley Crüe\, Queen\, Journey\, and Aerosmith all in one night. Opening acts include The Rolling Stoners\, channeling all the swagger of the Rolling Stones\, and Rhino\, bringing high-energy rock and pop covers that keep the crowd moving. \nThere’ll be a variety of food trucks to keep you fueled\, plus alcoholic beverages\, pop\, and water available on site. Book a hotel room and you’ll get a free concert ticket\, plus free shuttle service to and from the event\, so you can enjoy the night worry-free. Bring your lawn chairs and blankets to get comfy\, but please leave coolers and umbrellas at home. Rain or shine\, the show goes on—so gather your crew and get ready for one unforgettable night of music under the stars. \nRock’n the Grove is proudly organized by the Maple Grove Lions\, with all proceeds going right back into the community. Experience Maple Grove\, The City of Maple Grove\, and The Lookout are Platinum sponsors.
URL:https://experiencemaplegrove.com/event/rockn-the-grove/
LOCATION:Central Park of Maple Grove
CATEGORIES:Concerts & Music
ATTACH;FMTTYPE=image/jpeg:https://experiencemaplegrove.com/wp-content/uploads/2025/08/rtg-2025-flyer-april-2025.jpg
ORGANIZER;CN="Maple Grove Lions":MAILTO:maplegrovelions@gmail.com
END:VEVENT
BEGIN:VEVENT
DTSTART;TZID=America/Chicago:20250517T140000
DTEND;TZID=America/Chicago:20250517T190000
DTSTAMP:20260420T091210
CREATED:20250103T195843Z
LAST-MODIFIED:20250103T195843Z
UID:10004044-1747490400-1747508400@experiencemaplegrove.com
SUMMARY:Tails & Ales
DESCRIPTION:Tails & Ales will feature a vendor show with local businesses\, organizations\, rescues\, and non-profits with fun and interactive activities for you and your pet\, food\, drinks\, and live music! There will be adoptable animals\, art activities\, scavenger hunts\, prizes\, and more.
URL:https://experiencemaplegrove.com/event/tails-ales/
LOCATION:Central Park of Maple Grove
END:VEVENT
BEGIN:VEVENT
DTSTART;TZID=America/Chicago:20250201T130000
DTEND;TZID=America/Chicago:20250201T160000
DTSTAMP:20260420T091210
CREATED:20250103T195412Z
LAST-MODIFIED:20250103T195412Z
UID:10004041-1738414800-1738425600@experiencemaplegrove.com
SUMMARY:Wonders of Winter
DESCRIPTION:Celebrate winter in Minnesota at the annual Wonders of Winter event! Attendees can enjoy a variety of winter activities—all for free. Take a scenic horse-drawn wagon ride through Central Park\, warm up by the fire\, treat yourself to some delicious s’mores\, and more fun for the whole family!
URL:https://experiencemaplegrove.com/event/wonders-of-winter/
LOCATION:Central Park of Maple Grove
END:VEVENT
END:VCALENDAR