BEGIN:VCALENDAR
VERSION:2.0
PRODID:-//Experience Maple Grove - ECPv6.15.20//NONSGML v1.0//EN
CALSCALE:GREGORIAN
METHOD:PUBLISH
X-WR-CALNAME:Experience Maple Grove
X-ORIGINAL-URL:https://experiencemaplegrove.com
X-WR-CALDESC:Events for Experience Maple Grove
REFRESH-INTERVAL;VALUE=DURATION:PT1H
X-Robots-Tag:noindex
X-PUBLISHED-TTL:PT1H
BEGIN:VTIMEZONE
TZID:America/Chicago
BEGIN:DAYLIGHT
TZOFFSETFROM:-0600
TZOFFSETTO:-0500
TZNAME:CDT
DTSTART:20240310T080000
END:DAYLIGHT
BEGIN:STANDARD
TZOFFSETFROM:-0500
TZOFFSETTO:-0600
TZNAME:CST
DTSTART:20241103T070000
END:STANDARD
BEGIN:DAYLIGHT
TZOFFSETFROM:-0600
TZOFFSETTO:-0500
TZNAME:CDT
DTSTART:20250309T080000
END:DAYLIGHT
BEGIN:STANDARD
TZOFFSETFROM:-0500
TZOFFSETTO:-0600
TZNAME:CST
DTSTART:20251102T070000
END:STANDARD
BEGIN:DAYLIGHT
TZOFFSETFROM:-0600
TZOFFSETTO:-0500
TZNAME:CDT
DTSTART:20260308T080000
END:DAYLIGHT
BEGIN:STANDARD
TZOFFSETFROM:-0500
TZOFFSETTO:-0600
TZNAME:CST
DTSTART:20261101T070000
END:STANDARD
END:VTIMEZONE
BEGIN:VEVENT
DTSTART;TZID=America/Chicago:20250801T205000
DTEND;TZID=America/Chicago:20250801T222000
DTSTAMP:20260419T115003
CREATED:20250506T172243Z
LAST-MODIFIED:20250506T172243Z
UID:10004150-1754081400-1754086800@experiencemaplegrove.com
SUMMARY:Movies in the Park
DESCRIPTION:Join us for our Outdoor Movies in the Park! \nFridays at dusk. Free event \nE.T. the Extra Terrestrial (PG)
URL:https://experiencemaplegrove.com/event/movies-in-the-park-3/
LOCATION:Town Green Bandshell\, 7991 Main St\, Maple Grove\, MN\, 55369\, United States
END:VEVENT
BEGIN:VEVENT
DTSTART;TZID=America/Chicago:20250804T190000
DTEND;TZID=America/Chicago:20250804T210000
DTSTAMP:20260419T115003
CREATED:20250506T164950Z
LAST-MODIFIED:20250506T164950Z
UID:10004136-1754334000-1754341200@experiencemaplegrove.com
SUMMARY:Sounds of Summer Outdoor Concerts
DESCRIPTION:Join us for free outdoor concerts at Town Green! \nKyx: Summer of Love Show | Woodstock Era Covers
URL:https://experiencemaplegrove.com/event/sounds-of-summer-outdoor-concerts-7/
LOCATION:Town Green Bandshell\, 7991 Main St\, Maple Grove\, MN\, 55369\, United States
END:VEVENT
BEGIN:VEVENT
DTSTART;TZID=America/Chicago:20250806T190000
DTEND;TZID=America/Chicago:20250806T210000
DTSTAMP:20260419T115003
CREATED:20250506T170744Z
LAST-MODIFIED:20250506T170744Z
UID:10004144-1754506800-1754514000@experiencemaplegrove.com
SUMMARY:Grooves & Foods presented by Mick Sterling!
DESCRIPTION:Join us for free outdoor concerts at Town Green! \nThe Songs of Joe Cocker and The Band | Blues & Rock
URL:https://experiencemaplegrove.com/event/grooves-foods-presented-by-mick-sterling-5/
LOCATION:Town Green Bandshell\, 7991 Main St\, Maple Grove\, MN\, 55369\, United States
END:VEVENT
BEGIN:VEVENT
DTSTART;TZID=America/Chicago:20250808T205000
DTEND;TZID=America/Chicago:20250808T222000
DTSTAMP:20260419T115003
CREATED:20250506T172610Z
LAST-MODIFIED:20250506T172610Z
UID:10004151-1754686200-1754691600@experiencemaplegrove.com
SUMMARY:Movies in the Park
DESCRIPTION:Join us for our Outdoor Movies in the Park! \nFridays at dusk. Free event \nPitch Perfect (PG-13)
URL:https://experiencemaplegrove.com/event/movies-in-the-park-4/
LOCATION:Town Green Bandshell\, 7991 Main St\, Maple Grove\, MN\, 55369\, United States
END:VEVENT
BEGIN:VEVENT
DTSTART;VALUE=DATE:20250809
DTEND;VALUE=DATE:20250810
DTSTAMP:20260419T115003
CREATED:20250708T171954Z
LAST-MODIFIED:20250708T171954Z
UID:10004188-1754697600-1754783999@experiencemaplegrove.com
SUMMARY:10 Year Anniversary Party at OMNI Brewery & Taproom - Maple Grove
DESCRIPTION:🎉 A whole decade of OMNI! 🎉 \nWe couldn’t have made it 10 years without your support\, so we’re throwing a party on August 9th! \nWe’ve got a lot planned including: \n🎶 Live music all day featuring headliner Sugar Buzz \n🎟️ All-day giveaways and raffle prizes \n🎯 Yard games \n🧩 Bounce houses and activities for the kiddos \n🌯 Food trucks \n🍺PLUS A SPECIAL TAPLIST🍺 \nYou voted to bring back 10 of your favorite archived beers from OMNI and with nearly 3\,000 votes\, here were the beers YOU voted to bring back: \n1. 🍻 Sweetness – 493 votes\n2. 🍻 Get Rich Slow Scheme – 347 votes\n3. 🍻 Black is Beautiful – 280 votes\n4. 🍻 Roxanne – 264 votes\n5. 🍻 Malt Shop: Blueberry Pineapple – 258 votes\n6. 🍻 Hopfull – 223 votes\n7. 🍻 You Serious Clark? – 174 votes\n8. 🍻 Vanilla FAD – 135 votes\n9. 🍻 Cream Sota – 121 votes\n10. 🍻 Double Raspberry Double Vanilla Milkshake IPA – 113 votes \nAll 10 will be available on tap on August 9th as well as take home crowlers. \nWe wouldn’t have hit this milestone without your support\, we look forward to celebrating with you the best way we know how\, with a beer in hand! 🥳 \nCheers!
URL:https://experiencemaplegrove.com/event/10-year-anniversary-party-at-omni-brewery-taproom-maple-grove/
LOCATION:Omni Brewing\, 9462 Deerwood Lane\, Maple Grove\, MN\, 55369\, United States
CATEGORIES:Concerts & Music,Events & Festivals,Family,Food & Drink
ATTACH;FMTTYPE=image/jpeg:https://experiencemaplegrove.com/wp-content/uploads/2025/07/10-YR-FB-Cover-1.jpg
END:VEVENT
BEGIN:VEVENT
DTSTART;VALUE=DATE:20250810
DTEND;VALUE=DATE:20250817
DTSTAMP:20260419T115003
CREATED:20250630T124213Z
LAST-MODIFIED:20250630T124213Z
UID:10004182-1754784000-1755388799@experiencemaplegrove.com
SUMMARY:Restaurant Week
DESCRIPTION:The flavor-packed week begins with a Sunday Funday kick-off party\, delicious deals all week at participating restaurants and a tasty celebration on Saturday!
URL:https://experiencemaplegrove.com/event/restaurant-week/
LOCATION:MN
ATTACH;FMTTYPE=image/webp:https://experiencemaplegrove.com/wp-content/uploads/2025/06/RWPage-02.webp
END:VEVENT
BEGIN:VEVENT
DTSTART;TZID=America/Chicago:20250810T140000
DTEND;TZID=America/Chicago:20250810T170000
DTSTAMP:20260419T115003
CREATED:20250630T123957Z
LAST-MODIFIED:20250630T123957Z
UID:10004181-1754834400-1754845200@experiencemaplegrove.com
SUMMARY:Restaurant Week - Kick off Party
DESCRIPTION:Join us to kick-off Restaurant Week! \nFood Trucks \nLive Music \nGames \nYour chance to win a $500 shopping spree!
URL:https://experiencemaplegrove.com/event/restaurant-week-kick-off-party/
LOCATION:The Shoppes at Arbor Lakes\, 12459 Elm Creek Bvld\, Maple Grove\, MN\, 55369\, United States
ATTACH;FMTTYPE=image/webp:https://experiencemaplegrove.com/wp-content/uploads/2025/06/RWPage-01.webp
END:VEVENT
BEGIN:VEVENT
DTSTART;TZID=America/Chicago:20250811T190000
DTEND;TZID=America/Chicago:20250811T210000
DTSTAMP:20260419T115003
CREATED:20250506T165054Z
LAST-MODIFIED:20250506T165054Z
UID:10004137-1754938800-1754946000@experiencemaplegrove.com
SUMMARY:Sounds of Summer Outdoor Concerts
DESCRIPTION:Join us for free outdoor concerts at Town Green! \nMinneapolis Commodores | Barbershop Acapella
URL:https://experiencemaplegrove.com/event/sounds-of-summer-outdoor-concerts-8/
LOCATION:Town Green Bandshell\, 7991 Main St\, Maple Grove\, MN\, 55369\, United States
END:VEVENT
BEGIN:VEVENT
DTSTART;TZID=America/Chicago:20250813T190000
DTEND;TZID=America/Chicago:20250813T210000
DTSTAMP:20260419T115004
CREATED:20250506T170920Z
LAST-MODIFIED:20250506T170920Z
UID:10004145-1755111600-1755118800@experiencemaplegrove.com
SUMMARY:Grooves & Foods presented by Mick Sterling!
DESCRIPTION:Join us for free outdoor concerts at Town Green! \nThe Songs of Blood\, Sweat and Tears\, Chicago and Tower of Power | R&B\, Jazz and Rock
URL:https://experiencemaplegrove.com/event/grooves-foods-presented-by-mick-sterling-6/
LOCATION:Town Green Bandshell\, 7991 Main St\, Maple Grove\, MN\, 55369\, United States
END:VEVENT
BEGIN:VEVENT
DTSTART;VALUE=DATE:20250814
DTEND;VALUE=DATE:20250818
DTSTAMP:20260419T115004
CREATED:20250630T151239Z
LAST-MODIFIED:20250630T151239Z
UID:10004184-1755129600-1755475199@experiencemaplegrove.com
SUMMARY:Slam & Jam
DESCRIPTION:Largest Pickleball Tournament in Minnesota!\nAugust 14 – 17\, 2025\nPresented by Joola and Experience Maple Grove \nFeaturing 28 divisions across mixed\, men’s\, and women’s categories\, our tournament offers a great experience for all skill levels\, from beginner to seasoned player. Our divisions are structured with a narrower skill range than typical tournaments\, guaranteeing closely matched opponents throughout the event. \nCompetitive Details\n– Round robin play at Lakeview Knolls Park\, a brand new 18-court outdoor facility\, just 5 minutes from Pints & Paddle.\n– All teams will advance to a single-elimination bracket (championship or friendship) at Pints & Paddle\, played on the same day.\n– All teams get a minimum of 6 games.\n– Champion prize package includes a Joola Gen 3 paddle. \nPost-Game Fun\n– Relax and watch the championship matches\, courtside or from our second floor mezzanine.\n– Enjoy delicious food and drinks at the attached Pints & Paddle’s taproom\, featuring 78 self-serve taps and a scratch-made American kitchen.\n– Unwind on the spacious patio with live music playing through the afternoon and into the evening.
URL:https://experiencemaplegrove.com/event/slam-jam/
LOCATION:Pints & Paddle\, 15450 Grove Cir Nb\, Maple Grove\, MN\, 55369\, United States
END:VEVENT
BEGIN:VEVENT
DTSTART;TZID=America/Chicago:20250816T140000
DTEND;TZID=America/Chicago:20250816T230000
DTSTAMP:20260419T115004
CREATED:20250630T124740Z
LAST-MODIFIED:20250630T124740Z
UID:10004183-1755352800-1755385200@experiencemaplegrove.com
SUMMARY:Restaurant Week - Celebration Saturday
DESCRIPTION:Cap off the week with an unbelievable party! \nJoin us at the Lookout Bar & Grill parking lot for food\, drinks and Country Roads Band\, featuring our very own Kat Perkins! \nMusic line-up includes: \n2PM – School of Rock \n4PM- Atari Band \n7PM – Country Roads Band \n9PM – Music Junkies (inside)
URL:https://experiencemaplegrove.com/event/restaurant-week-celebration-saturday/
LOCATION:MN
ATTACH;FMTTYPE=image/webp:https://experiencemaplegrove.com/wp-content/uploads/2025/06/RWPage-03-1.webp
END:VEVENT
BEGIN:VEVENT
DTSTART;TZID=America/Chicago:20250818T190000
DTEND;TZID=America/Chicago:20250818T210000
DTSTAMP:20260419T115004
CREATED:20250506T165156Z
LAST-MODIFIED:20250506T165156Z
UID:10004138-1755543600-1755550800@experiencemaplegrove.com
SUMMARY:Sounds of Summer Outdoor Concerts
DESCRIPTION:Join us for free outdoor concerts at Town Green! \nSalsa Del Soul | Latin & Dance
URL:https://experiencemaplegrove.com/event/sounds-of-summer-outdoor-concerts-9/
LOCATION:Town Green Bandshell\, 7991 Main St\, Maple Grove\, MN\, 55369\, United States
END:VEVENT
BEGIN:VEVENT
DTSTART;TZID=America/Chicago:20250819T180000
DTEND;TZID=America/Chicago:20250819T190000
DTSTAMP:20260419T115004
CREATED:20250804T131524Z
LAST-MODIFIED:20250804T131524Z
UID:10004202-1755626400-1755630000@experiencemaplegrove.com
SUMMARY:Maple Grove Business Networking Night
DESCRIPTION:Welcome to Maple Grove Business Networking Night – Hosted by City Lifestyle Magazine Maple Grove! \nCome join us at Crème de la Crème School of Maple Grove for a fun evening of networking with local businesses. \nThis event is for:✔️ Business owners in Maple Grove✔️ Family\, kid & pet-focused brands✔️ Anyone who loves this community \nCome ready to:✔️ Mingle with fellow business owners✔️ Share what you do and who you serve✔️ Explore opportunities to support and grow together \nPlease RSVP if you plan to attend so we can plan for refreshments. See you there!
URL:https://experiencemaplegrove.com/event/maple-grove-business-networking-night/
LOCATION:Creme de la Creme\, 13001 62nd Place North\, Maple Grove\, M\, 55369\, United States
ATTACH;FMTTYPE=image/png:https://experiencemaplegrove.com/wp-content/uploads/2025/08/EventBrite-Cover-Image.png
END:VEVENT
BEGIN:VEVENT
DTSTART;TZID=America/Chicago:20250820T190000
DTEND;TZID=America/Chicago:20250820T210000
DTSTAMP:20260419T115004
CREATED:20250506T171217Z
LAST-MODIFIED:20250506T171217Z
UID:10004146-1755716400-1755723600@experiencemaplegrove.com
SUMMARY:Grooves & Foods presented by Mick Sterling!
DESCRIPTION:Join us for free outdoor concerts at Town Green! \nThe Orchestral Hits and Deep Tracks of Elton John and Billy Joel | Pop Symphony
URL:https://experiencemaplegrove.com/event/grooves-foods-presented-by-mick-sterling-7/
LOCATION:Town Green Bandshell\, 7991 Main St\, Maple Grove\, MN\, 55369\, United States
END:VEVENT
BEGIN:VEVENT
DTSTART;TZID=America/Chicago:20250822T205000
DTEND;TZID=America/Chicago:20250822T222000
DTSTAMP:20260419T115004
CREATED:20250506T172740Z
LAST-MODIFIED:20250506T172740Z
UID:10004152-1755895800-1755901200@experiencemaplegrove.com
SUMMARY:Movies in the Park
DESCRIPTION:Join us for our Outdoor Movies in the Park! \nFridays at dusk. Free event \nUp (PG)
URL:https://experiencemaplegrove.com/event/movies-in-the-park-5/
LOCATION:Town Green Bandshell\, 7991 Main St\, Maple Grove\, MN\, 55369\, United States
END:VEVENT
BEGIN:VEVENT
DTSTART;TZID=America/Chicago:20250825T190000
DTEND;TZID=America/Chicago:20250825T210000
DTSTAMP:20260419T115004
CREATED:20250506T165305Z
LAST-MODIFIED:20250506T165305Z
UID:10004139-1756148400-1756155600@experiencemaplegrove.com
SUMMARY:Sounds of Summer Outdoor Concerts
DESCRIPTION:Join us for free outdoor concerts at Town Green!\n\nHunker’d Down Blues Band | Classic Rock & Blues
URL:https://experiencemaplegrove.com/event/sounds-of-summer-outdoor-concerts-10/
LOCATION:Town Green Bandshell\, 7991 Main St\, Maple Grove\, MN\, 55369\, United States
END:VEVENT
BEGIN:VEVENT
DTSTART;TZID=America/Chicago:20250827T190000
DTEND;TZID=America/Chicago:20250827T210000
DTSTAMP:20260419T115004
CREATED:20250506T171316Z
LAST-MODIFIED:20250506T171316Z
UID:10004147-1756321200-1756328400@experiencemaplegrove.com
SUMMARY:Grooves & Foods presented by Mick Sterling!
DESCRIPTION:Join us for free outdoor concerts at Town Green!\n\nA Salute to the Great American Crooners | Jazz\, Swing and Pop
URL:https://experiencemaplegrove.com/event/grooves-foods-presented-by-mick-sterling-8/
LOCATION:Town Green Bandshell\, 7991 Main St\, Maple Grove\, MN\, 55369\, United States
END:VEVENT
BEGIN:VEVENT
DTSTART;TZID=America/Chicago:20250829T205000
DTEND;TZID=America/Chicago:20250829T222000
DTSTAMP:20260419T115004
CREATED:20250506T173243Z
LAST-MODIFIED:20250506T173243Z
UID:10004153-1756500600-1756506000@experiencemaplegrove.com
SUMMARY:Movies in the Park
DESCRIPTION:Join us for our Outdoor Movies in the Park! \nFridays at dusk. Free event. \nMoana 2 (PG) \n 
URL:https://experiencemaplegrove.com/event/movies-in-the-park-6/
LOCATION:Town Green Bandshell\, 7991 Main St\, Maple Grove\, MN\, 55369\, United States
END:VEVENT
BEGIN:VEVENT
DTSTART;TZID=America/Chicago:20250830T173000
DTEND;TZID=America/Chicago:20250830T213000
DTSTAMP:20260419T115004
CREATED:20250714T192140Z
LAST-MODIFIED:20250714T192140Z
UID:10004193-1756575000-1756589400@experiencemaplegrove.com
SUMMARY:Minneapolis Water Lantern Festival
DESCRIPTION:The Minneapolis Water Lantern Festival is bringing people together for a celebration of light and community! This unforgettable evening will be filled with tasty food trucks\, fun music\, activities\, and thousands of lanterns lighting up the night with love\, hope\, and happiness. The event is taking place on August 30th at Town Green Park! Tickets are selling fast! Make sure to claim yours now on our website (www.waterlanternfestival.com) and follow us on social media @waterlanternfestival
URL:https://experiencemaplegrove.com/event/minneapolis-water-lantern-festival/
LOCATION:Town Green Park\, 7991 Main Street\, Maple Grove\, 55369\, United States
ATTACH;FMTTYPE=image/png:https://experiencemaplegrove.com/wp-content/uploads/2025/07/WLF-Social-Image-2-1-1-1.png
END:VEVENT
END:VCALENDAR