BEGIN:VCALENDAR
VERSION:2.0
PRODID:-//Experience Maple Grove - ECPv6.15.20//NONSGML v1.0//EN
CALSCALE:GREGORIAN
METHOD:PUBLISH
X-WR-CALNAME:Experience Maple Grove
X-ORIGINAL-URL:https://experiencemaplegrove.com
X-WR-CALDESC:Events for Experience Maple Grove
REFRESH-INTERVAL;VALUE=DURATION:PT1H
X-Robots-Tag:noindex
X-PUBLISHED-TTL:PT1H
BEGIN:VTIMEZONE
TZID:America/Chicago
BEGIN:DAYLIGHT
TZOFFSETFROM:-0600
TZOFFSETTO:-0500
TZNAME:CDT
DTSTART:20240310T080000
END:DAYLIGHT
BEGIN:STANDARD
TZOFFSETFROM:-0500
TZOFFSETTO:-0600
TZNAME:CST
DTSTART:20241103T070000
END:STANDARD
BEGIN:DAYLIGHT
TZOFFSETFROM:-0600
TZOFFSETTO:-0500
TZNAME:CDT
DTSTART:20250309T080000
END:DAYLIGHT
BEGIN:STANDARD
TZOFFSETFROM:-0500
TZOFFSETTO:-0600
TZNAME:CST
DTSTART:20251102T070000
END:STANDARD
BEGIN:DAYLIGHT
TZOFFSETFROM:-0600
TZOFFSETTO:-0500
TZNAME:CDT
DTSTART:20260308T080000
END:DAYLIGHT
BEGIN:STANDARD
TZOFFSETFROM:-0500
TZOFFSETTO:-0600
TZNAME:CST
DTSTART:20261101T070000
END:STANDARD
END:VTIMEZONE
BEGIN:VEVENT
DTSTART;VALUE=DATE:20250412
DTEND;VALUE=DATE:20250413
DTSTAMP:20260421T100032
CREATED:20250314T134850Z
LAST-MODIFIED:20250314T134850Z
UID:10004102-1744416000-1744502399@experiencemaplegrove.com
SUMMARY:Bock Party at OMNI Brewery & Taproom
DESCRIPTION:OMNI’s Bock Party is back on April 12th! 🐐 \nCome celebrate the end of winter (hopefully) and cheers to spring with all-day live music\, bock beer release\, and of course—beer poking! \nWe’ll be selling exclusive OMNI bock steins as part of our stein + pour deal. \nFull Event Details: \n🎵LIVE MUSIC LINEUP🎵 \n12PM- 2PM: The Squires \n3PM – 5PM: TBD \n6PM – 8PM: Pickle! \n🍺BEER RELEASE🍺 \nBock Party (Bock) \n🔥BEER POKING🔥 \n12PM – 5PM \n🌭OMNI Brat Stand🌭 \n12PM-7PM \nWe hope to see you out here\, cheers! 🍻
URL:https://experiencemaplegrove.com/event/bock-party-at-omni-brewery-taproom/
LOCATION:Omni Brewing\, 9462 Deerwood Lane\, Maple Grove\, MN\, 55369\, United States
ATTACH;FMTTYPE=image/jpeg:https://experiencemaplegrove.com/wp-content/uploads/2025/03/Bock-Party-Teaser-1080x1080-1.jpg
END:VEVENT
BEGIN:VEVENT
DTSTART;TZID=America/Chicago:20250418T180000
DTEND;TZID=America/Chicago:20250418T203000
DTSTAMP:20260421T100032
CREATED:20250114T151228Z
LAST-MODIFIED:20250114T151248Z
UID:10004064-1744999200-1745008200@experiencemaplegrove.com
SUMMARY:Couple's Night @ Optimal Performance Golf
DESCRIPTION:Monthly on the 1st and 3rd Fridays from 6:00 PM – 8:30 PM\nGolf Clinic from 6:00 PM – 6:30 PM led by Julian Ramirez and our Professional Staff\n$85/couple which includes event fee\, simulator time and the golf clinic\n2-person scramble\nCan sign-up as a couple or a foursome and play together during the event\nPrize(s) awarded to the winners
URL:https://experiencemaplegrove.com/event/couples-night-optimal-performance-golf/2025-04-18/
LOCATION:Optimal Performance Golf\, 10401 93rd Avenue North\, Maple Grove\, MN\, 55369\, United States
CATEGORIES:Food & Drink,Sports
ATTACH;FMTTYPE=image/png:https://experiencemaplegrove.com/wp-content/uploads/2025/01/OPG-Couples-night-flyers-.png
ORGANIZER;CN="Optimal Performance Golf":MAILTO:luke@optimalperformancegolf.com
END:VEVENT
BEGIN:VEVENT
DTSTART;TZID=America/Chicago:20250426T080000
DTEND;TZID=America/Chicago:20250427T200000
DTSTAMP:20260421T100032
CREATED:20250319T134721Z
LAST-MODIFIED:20250320T132212Z
UID:10004107-1745654400-1745784000@experiencemaplegrove.com
SUMMARY:Pickle with Purpose 2025
DESCRIPTION:Grab Your Paddle & Serve Up Hope!\nJoin CROSS Services for Pickle with Purpose\, a Pickleball Tournament\, presented by Bond&Devick Wealth Partners\, benefiting CROSS Services and your community. \nDate: Saturday\, April 26\, 2025 – Sunday\, April 27\, 2025 \nLocation: Pints & Paddle\, Maple Grove \nTournament Highlights:\nDoubles Brackets: Men’s\, Women’s\, and Co-ed\nOn-site Activities: 50/50 raffle\, silent auction\, and more!\nFood & Beverages: Available for purchase onsite\nAward Ceremony: At the conclusion of each tournament\nRegistration is Now Open!\n$55 per event\, with an additional $45 for a second event. \nSign up as a team or individually—we’ll match singles with a tournament partner! \nREGISTER FOR THE TOURNAMENT \nWhy Participate?\nAt CROSS Services\, we believe in uplifting our community through events that inspire connection and create meaningful change. Your participation in Pickle with Purpose directly supports our mission to meet basic needs and enhance the well-being of individuals and families in our community by providing essential food services along with compassionate\, supportive resources. Whether you’re hitting the court or bidding on our exciting silent auction items\, your involvement helps neighbors in need focus on building brighter futures. Together\, we can serve hope and make a lasting difference—one game at a time.
URL:https://experiencemaplegrove.com/event/pickle-with-purpose-2025/
LOCATION:Pints & Paddle\, 15450 Grove Cir Nb\, Maple Grove\, MN\, 55369\, United States
CATEGORIES:Charity/Giving back,Health and Wellness,Sports
ATTACH;FMTTYPE=image/jpeg:https://experiencemaplegrove.com/wp-content/uploads/2025/03/Pickle-w-Pupose-Event-Page.jpg
END:VEVENT
END:VCALENDAR