BEGIN:VCALENDAR
VERSION:2.0
PRODID:-//Experience Maple Grove - ECPv6.15.20//NONSGML v1.0//EN
CALSCALE:GREGORIAN
METHOD:PUBLISH
X-ORIGINAL-URL:https://experiencemaplegrove.com
X-WR-CALDESC:Events for Experience Maple Grove
REFRESH-INTERVAL;VALUE=DURATION:PT1H
X-Robots-Tag:noindex
X-PUBLISHED-TTL:PT1H
BEGIN:VTIMEZONE
TZID:America/Chicago
BEGIN:DAYLIGHT
TZOFFSETFROM:-0600
TZOFFSETTO:-0500
TZNAME:CDT
DTSTART:20240310T080000
END:DAYLIGHT
BEGIN:STANDARD
TZOFFSETFROM:-0500
TZOFFSETTO:-0600
TZNAME:CST
DTSTART:20241103T070000
END:STANDARD
BEGIN:DAYLIGHT
TZOFFSETFROM:-0600
TZOFFSETTO:-0500
TZNAME:CDT
DTSTART:20250309T080000
END:DAYLIGHT
BEGIN:STANDARD
TZOFFSETFROM:-0500
TZOFFSETTO:-0600
TZNAME:CST
DTSTART:20251102T070000
END:STANDARD
BEGIN:DAYLIGHT
TZOFFSETFROM:-0600
TZOFFSETTO:-0500
TZNAME:CDT
DTSTART:20260308T080000
END:DAYLIGHT
BEGIN:STANDARD
TZOFFSETFROM:-0500
TZOFFSETTO:-0600
TZNAME:CST
DTSTART:20261101T070000
END:STANDARD
END:VTIMEZONE
BEGIN:VEVENT
DTSTART;TZID=America/Chicago:20250726T100000
DTEND;TZID=America/Chicago:20250726T170000
DTSTAMP:20260419T081406
CREATED:20250714T145219Z
LAST-MODIFIED:20250714T145219Z
UID:10004191-1753524000-1753549200@experiencemaplegrove.com
SUMMARY:10th Annual Maple Grove
DESCRIPTION:🔥Celebrate 10 years of magic\, wellness\, and intuition at the best summer holistic event in the Twin Cities!🔥\nStep into a day of transformation\, connection\, and celebration!\nJoin us for the 10th Annual Maple Grove Holistic & Psychic Expo—our biggest and most magical year yet!\n🌀 Discover what your soul’s been searching for as you explore:\n50+ hand-selected vendors featuring crystals\, healing tools\, intuitive readers\, metaphysical gifts\, wellness products & more\nLive speakers and workshops to expand your mind\, energy\, and spirit\nA welcoming\, high-vibe community of kindred souls\n🎟️ Want even more?\nDon’t miss our exclusive VIP Friday Night Awakening Code Experience with Refined Divine Psychic Medium\, Deb Strait.\nIncludes a private meet & greet\, light appetizers\, channeling session\, and a premium gift bag. Limited spots available!\nSATURDAY SPEAKERS INCLUDE:\n💖Deb Strait from Refined Divine Psychic Mediumship Gallery from 11:00am to 12:30pm ($44 Dollar ticket Fee)\n💖Cathy Gnatek- Astologer “What Astrology can tell you about your Dharma & Life Purpose” from 1:00pm to 2:30pm\n💖Vanashree Gadam- Arurvedic Practioner “Discovering Ayurveda: A Journey of Holistic Health Well Being from 3:00-4:00pm\n📅 Date: Saturday\, July 26th\, 2025\n🕘 Time: 10 AM – 5 PM\n📍 Location: Maple Grove Community Center 12951 Weaver Lake Rd\, Maple Grove\, MN 55369\n🎟️ Admission: VIP $111/ EXPO ONLY $5\n👉 Get tickets here: VIP: https://square.link/u/ssUXGc8u / Psychic Gallery: https://square.link/u/BRfyDAVT\n👉Info: www.maplegroveholisticexpo.com\n👉 Expo entry is required to attend all speakers/gallery and will be available at the door on Saturday.\n✨ Whether you’re new to the metaphysical world or a seasoned soul traveler\, this is your moment to awaken\, connect\, and celebrate 10 years of healing and magic.\nWe can’t wait to see you there!
URL:https://experiencemaplegrove.com/event/10th-annual-maple-grove/
LOCATION:Maple Grove Community Center\, 12951 Weaver Lake Rd.\, Maple Grove\, MN\, 55369\, United States
CATEGORIES:Events & Festivals,Health and Wellness,Shopping/Retail
ATTACH;FMTTYPE=image/jpeg:https://experiencemaplegrove.com/wp-content/uploads/2025/07/MP-Expo-Cover.jpg
ORGANIZER;CN="The Edge Magazine":MAILTO:Kelly@EdgeMagazine.net
END:VEVENT
END:VCALENDAR