BEGIN:VCALENDAR
VERSION:2.0
PRODID:-//Experience Maple Grove - ECPv6.15.20//NONSGML v1.0//EN
CALSCALE:GREGORIAN
METHOD:PUBLISH
X-WR-CALNAME:Experience Maple Grove
X-ORIGINAL-URL:https://experiencemaplegrove.com
X-WR-CALDESC:Events for Experience Maple Grove
REFRESH-INTERVAL;VALUE=DURATION:PT1H
X-Robots-Tag:noindex
X-PUBLISHED-TTL:PT1H
BEGIN:VTIMEZONE
TZID:America/Chicago
BEGIN:DAYLIGHT
TZOFFSETFROM:-0600
TZOFFSETTO:-0500
TZNAME:CDT
DTSTART:20240310T080000
END:DAYLIGHT
BEGIN:STANDARD
TZOFFSETFROM:-0500
TZOFFSETTO:-0600
TZNAME:CST
DTSTART:20241103T070000
END:STANDARD
BEGIN:DAYLIGHT
TZOFFSETFROM:-0600
TZOFFSETTO:-0500
TZNAME:CDT
DTSTART:20250309T080000
END:DAYLIGHT
BEGIN:STANDARD
TZOFFSETFROM:-0500
TZOFFSETTO:-0600
TZNAME:CST
DTSTART:20251102T070000
END:STANDARD
BEGIN:DAYLIGHT
TZOFFSETFROM:-0600
TZOFFSETTO:-0500
TZNAME:CDT
DTSTART:20260308T080000
END:DAYLIGHT
BEGIN:STANDARD
TZOFFSETFROM:-0500
TZOFFSETTO:-0600
TZNAME:CST
DTSTART:20261101T070000
END:STANDARD
END:VTIMEZONE
BEGIN:VEVENT
DTSTART;VALUE=DATE:20250510
DTEND;VALUE=DATE:20250511
DTSTAMP:20260420T085629
CREATED:20250207T140311Z
LAST-MODIFIED:20250207T140311Z
UID:10004080-1746835200-1746921599@experiencemaplegrove.com
SUMMARY:Lookout Spring Fest Parking Lot Party
DESCRIPTION:Free Admission~Food Trucks~Beer Tents~Live Music \nLive music From\n1pm Chopper Loose\n3pm Ragtown\n5pm Good For Gary\n9pm (Inside) Triple Dog Dare
URL:https://experiencemaplegrove.com/event/lookout-spring-fest-parking-lot-party/
LOCATION:The Lookout Bar & Grill\, 8672 Pineview Lane N\, Maple Grove\, MN
CATEGORIES:Concerts & Music,Events & Festivals,Family,Outdoors
ATTACH;FMTTYPE=image/jpeg:https://experiencemaplegrove.com/wp-content/uploads/2025/02/Spring-Fest-Drone-2-2024-scaled.jpg
END:VEVENT
BEGIN:VEVENT
DTSTART;TZID=America/Chicago:20250531T170000
DTEND;TZID=America/Chicago:20250531T200000
DTSTAMP:20260420T085629
CREATED:20250402T154509Z
LAST-MODIFIED:20250402T154627Z
UID:10004113-1748710800-1748721600@experiencemaplegrove.com
SUMMARY:Walking on Water Live Worship Recording
DESCRIPTION:Walking on Water is a live worship experience by Minnesotan artist Shaun P featuring VaShawn Mitchell\, and some gifted friends locally and internationally. Multi award winning artist Shaun P embarks on his very first live recording in the USA\, encompassing over 2 decades of original music and popular worship favorites that resonate around the world. With a blend of CCM\, gospel and contemporary rock; worshippers from all generations and ethnicities can brace themselves for an encounter with God\, and an uncommon worship experience under the open skies in Maple Grove\, Minnesota. We will be capturing this event live and releasing it to the world so they may encounter God in a special and unique way!
URL:https://experiencemaplegrove.com/event/walking-on-water-live-worship-recording-2/
LOCATION:MN
CATEGORIES:Arts & Culture,Concerts & Music,Events & Festivals,Family,Outdoors
ATTACH;FMTTYPE=image/jpeg:https://experiencemaplegrove.com/wp-content/uploads/2025/04/Walking-on-Water-Flyer-1.jpg
ORGANIZER;CN="New Dimension Worldwide":MAILTO:info@newdimension.world
END:VEVENT
END:VCALENDAR