BEGIN:VCALENDAR
VERSION:2.0
PRODID:-//Experience Maple Grove - ECPv6.15.20//NONSGML v1.0//EN
CALSCALE:GREGORIAN
METHOD:PUBLISH
X-WR-CALNAME:Experience Maple Grove
X-ORIGINAL-URL:https://experiencemaplegrove.com
X-WR-CALDESC:Events for Experience Maple Grove
REFRESH-INTERVAL;VALUE=DURATION:PT1H
X-Robots-Tag:noindex
X-PUBLISHED-TTL:PT1H
BEGIN:VTIMEZONE
TZID:America/Chicago
BEGIN:DAYLIGHT
TZOFFSETFROM:-0600
TZOFFSETTO:-0500
TZNAME:CDT
DTSTART:20240310T080000
END:DAYLIGHT
BEGIN:STANDARD
TZOFFSETFROM:-0500
TZOFFSETTO:-0600
TZNAME:CST
DTSTART:20241103T070000
END:STANDARD
BEGIN:DAYLIGHT
TZOFFSETFROM:-0600
TZOFFSETTO:-0500
TZNAME:CDT
DTSTART:20250309T080000
END:DAYLIGHT
BEGIN:STANDARD
TZOFFSETFROM:-0500
TZOFFSETTO:-0600
TZNAME:CST
DTSTART:20251102T070000
END:STANDARD
BEGIN:DAYLIGHT
TZOFFSETFROM:-0600
TZOFFSETTO:-0500
TZNAME:CDT
DTSTART:20260308T080000
END:DAYLIGHT
BEGIN:STANDARD
TZOFFSETFROM:-0500
TZOFFSETTO:-0600
TZNAME:CST
DTSTART:20261101T070000
END:STANDARD
END:VTIMEZONE
BEGIN:VEVENT
DTSTART;TZID=America/Chicago:20250607T100000
DTEND;TZID=America/Chicago:20250608T180000
DTSTAMP:20260421T032833
CREATED:20250502T124324Z
LAST-MODIFIED:20250502T124324Z
UID:10004123-1749290400-1749405600@experiencemaplegrove.com
SUMMARY:Chalkfest Maple Grove Celebrates a DECADE of Chalking it Up!
DESCRIPTION:Chalkfest Maple Grove Celebrates a DECADE of Chalking it Up!\nMore than 25\,000 attendees gather to see Main Street Maple Grove transform into a canvas of chalk art creations with an expanded Kids Zone\, additional viewing day\, and MORE!\nSaturday and Sunday\, JUNE 7 & 8 \nWHAT: 10th Annual Chalkfest Maple Grove\, a FREE 2-Day Street Art Festival \nSelfie poses with 3D art\, chalk-stained fingers and downward looking spectators gathering in downtown Maple Grove are common sights during Chalkfest Maple Grove\, which draws more than 25\,000 spectators annually. Taking place Saturday and Sunday\, June 7 and 8\, Chalkfest Maple Grove is a free\, 2-day street art festival with entertainment\, food and family fun\, presented by the Maple Grove Business Association. \nChalkfest will feature sidewalk chalk art by more than 50 professionals\, amateurs\, students and art enthusiasts from around the world and as far away as Mexico\, Ukraine\, Turkey and Colombia. Main Street Maple Grove is transformed into a street art gallery open for public viewing. Don’t forget to snap a photo on one of the 3D art pieces or have one printed out at one of two digital photo booths at the event! Talk about AMAZING selfies! There is also the FREE Chalk Zone area by Maple Grove Arts Center between 3 Squares & Broadway Pizza with art activities\, chalk classes\, chalking squares\, a mandala chalk design and more creativity for spectators of all ages. \nChalkfest Maple Grove KIDS ZONE features inflatables\, a warped wall climb challenge\, ice cream\, snow cones\, kids activities\, yard games\, caricatures\, temporary tattoos\, henna body art\, a LIVE kids performance music stage\, free digital photo booth\, police and fire vehicles and activities\nand so much more to engage and thrill kids of all ages! \nWHEN: June 7 and 8\, 2025\n10am – 6 pm\n*Additional Viewing Day Monday\, June 9 \nWHERE: Downtown Main Street in Maple Grove\, MN\nBetween Elm Creek Boulevard and 1 block north of Arbor Lakes Parkway \nMORE INFO: Chalk Art winners will be announced at 4:30 p.m. Sunday\, June 8th. The public is encouraged to tour the art all weekend. To see one-of-a-kind creations and to learn more about Chalkfest Maple Grove\, go here. Chalk Art will be open for public viewing through Monday\, June 9. \nAs the Midwest’s largest chalk festival\, Chalkfest Maple Grove provides easy and free access to creations from artists all over the globe. Come support this awe-inspiring experience. Also consider being a sponsor and help pay artist stipends\, travel and material fees. To learn more about sponsorship opportunities\, please visit maplegrovebiz.com or contact Kira L Johnson at kira@maplegrovebiz.com or 612-859-1977.
URL:https://experiencemaplegrove.com/event/chalkfest-maple-grove-celebrates-a-decade-of-chalking-it-up/
LOCATION:Downtown Maple Grove\, United States
CATEGORIES:Arts & Culture,Events & Festivals,Family
ATTACH;FMTTYPE=image/jpeg:https://experiencemaplegrove.com/wp-content/uploads/2025/05/ChalkfestFestivalView-scaled.jpeg
END:VEVENT
END:VCALENDAR